BEGIN:VCALENDAR
VERSION:2.0
PRODID:-//Maranatha Venezuela - ECPv5.4.0.2//NONSGML v1.0//EN
CALSCALE:GREGORIAN
METHOD:PUBLISH
X-WR-CALNAME:Maranatha Venezuela
X-ORIGINAL-URL:https://maranathavenezuela.com
X-WR-CALDESC:Events for Maranatha Venezuela
BEGIN:VTIMEZONE
TZID:UTC
BEGIN:STANDARD
TZOFFSETFROM:+0000
TZOFFSETTO:+0000
TZNAME:UTC
DTSTART:20200101T000000
END:STANDARD
END:VTIMEZONE
BEGIN:VEVENT
DTSTART;TZID=UTC:20200621T090000
DTEND;TZID=UTC:20200621T113000
DTSTAMP:20260422T180654
CREATED:20200522T164645Z
LAST-MODIFIED:20200522T164645Z
UID:1962-1592730000-1592739000@maranathavenezuela.com
SUMMARY:Servicio de Celebración
DESCRIPTION:Acompáñanos a recibir la palabra de Dios en nuestro Servicio de Celebración. Cosas que ojo no vio\, ni oído oyó\, ni han subido en corazón de hombre\, son las que Dios ha preparado para los que le aman. Te esperamos a partir de las 9:00am en nuestra Transmisión En Vivo.
URL:https://maranathavenezuela.com/evento/servicio-de-celebracion-21-06-2020/
LOCATION:YouTube Maranatha Venezuela\, Urbanización Castillito\, Parcela L-120\, Valencia\, Carabobo\, 2001\, Venezuela
CATEGORIES:Servicio de Celebración
END:VEVENT
END:VCALENDAR