BEGIN:VCALENDAR
VERSION:2.0
PRODID:-//Maranatha Venezuela - ECPv5.4.0.2//NONSGML v1.0//EN
CALSCALE:GREGORIAN
METHOD:PUBLISH
X-WR-CALNAME:Maranatha Venezuela
X-ORIGINAL-URL:https://maranathavenezuela.com
X-WR-CALDESC:Events for Maranatha Venezuela
BEGIN:VTIMEZONE
TZID:UTC
BEGIN:STANDARD
TZOFFSETFROM:+0000
TZOFFSETTO:+0000
TZNAME:UTC
DTSTART:20200101T000000
END:STANDARD
END:VTIMEZONE
BEGIN:VEVENT
DTSTART;TZID=UTC:20200221T180000
DTEND;TZID=UTC:20200221T203000
DTSTAMP:20260422T230146
CREATED:20200129T004602Z
LAST-MODIFIED:20200129T004602Z
UID:1528-1582308000-1582317000@maranathavenezuela.com
SUMMARY:Servicio de Enseñanza Bíblica
DESCRIPTION:Comparte con nosotros la Palabra de Dios\, ven este próximo viernes 21 de febrero a nuestra Iglesia y recibe lo que Dios tiene preparado para ti en este día.
URL:https://maranathavenezuela.com/evento/servicio-de-ensenanza-biblica-21-02-2020/
LOCATION:Iglesia Maranatha Venezuela\, sede Valencia\, Urbanización Castillito\, Parcela L-120\, Valencia\, Carabobo\, 2001\, Venezuela
CATEGORIES:Servicio de Enseñanza Bíblica
END:VEVENT
END:VCALENDAR