BEGIN:VCALENDAR
VERSION:2.0
PRODID:-//Maranatha Venezuela - ECPv5.4.0.2//NONSGML v1.0//EN
CALSCALE:GREGORIAN
METHOD:PUBLISH
X-WR-CALNAME:Maranatha Venezuela
X-ORIGINAL-URL:https://maranathavenezuela.com
X-WR-CALDESC:Events for Maranatha Venezuela
BEGIN:VTIMEZONE
TZID:UTC
BEGIN:STANDARD
TZOFFSETFROM:+0000
TZOFFSETTO:+0000
TZNAME:UTC
DTSTART:20200101T000000
END:STANDARD
END:VTIMEZONE
BEGIN:VEVENT
DTSTART;TZID=UTC:20200225T180000
DTEND;TZID=UTC:20200225T203000
DTSTAMP:20260422T211846
CREATED:20200129T004217Z
LAST-MODIFIED:20200129T004217Z
UID:1520-1582653600-1582662600@maranathavenezuela.com
SUMMARY:Servicio de Oración
DESCRIPTION:¡Tu milagro viene de camino! Disfruta con nosotros de un poderoso servicio de oración\, cargado con la presencia y el poder de Dios. Te esperamos en nuestra casa\, a partir de las 6:00pm.
URL:https://maranathavenezuela.com/evento/servicio-de-oracion-25-02-2020/
LOCATION:Iglesia Maranatha Venezuela\, sede Valencia\, Urbanización Castillito\, Parcela L-120\, Valencia\, Carabobo\, 2001\, Venezuela
CATEGORIES:Servicio de Oración
END:VEVENT
END:VCALENDAR